BEGIN:VCALENDAR
VERSION:2.0
PRODID:-//OmniMagnetCalendar//EN
BEGIN:VEVENT
DTSTAMP:20190625T195740Z
STATUS:CONFIRMED
UID:hcaustralia.clubs.harvard.edu588
DTSTART:20260623T211500Z
DTEND:20260623T230000Z
LOCATION:Corrs Chambers Westgarth, Quay Quarter Tower, Level 37, 50 Bridge Street, Sydney, NSW, 2000,
SUMMARY:HCA Women's Networking Breakfast with Chief of Army, Susan Coyle AM, CSC, DSM
DESCRIPTION:Join the newly appointed Chief of Army, Susan Coyle AM, CSC, DSM, at HCA's Women's Networking Breakfast on Wednesday, 24 June in Sydney CBD.
BEGIN:VALARM
TRIGGER:-PT15M
ACTION:DISPLAY
END:VALARM
TRANSP:OPAQUE
END:VEVENT
END:VCALENDAR
