BEGIN:VCALENDAR
VERSION:2.0
PRODID:-//OmniMagnetCalendar//EN
BEGIN:VEVENT
DTSTAMP:20190625T195740Z
STATUS:CONFIRMED
UID:hcaustralia.clubs.harvard.edu568
DTSTART:20251210T020000Z
DTEND:20251210T033000Z
LOCATION:
SUMMARY:Lunchtime Chat with Phil Waugh, CEO of Rugby Australia
DESCRIPTION:Join us for a special conversation with Phil Waugh, who will discuss his goals for the expansion of the game and the exciting plans for the 2027 World Cup.
BEGIN:VALARM
TRIGGER:-PT15M
ACTION:DISPLAY
END:VALARM
TRANSP:OPAQUE
END:VEVENT
END:VCALENDAR
