BEGIN:VCALENDAR
VERSION:2.0
PRODID:-//OmniMagnetCalendar//EN
BEGIN:VEVENT
DTSTAMP:20190625T195740Z
STATUS:CONFIRMED
UID:hcaustralia.clubs.harvard.edu564
DTSTART:20251127T100000Z
DTEND:20251127T130000Z
LOCATION:University Club of WA, Hackett Entrance, 1 Hackett Drive, Crawley,
SUMMARY:WA Thanksgiving Dinner
DESCRIPTION:Join members and guests for an evening of Thanksgiving and fine fare at the UWA Club.
BEGIN:VALARM
TRIGGER:-PT15M
ACTION:DISPLAY
END:VALARM
TRANSP:OPAQUE
END:VEVENT
END:VCALENDAR
