BEGIN:VCALENDAR
VERSION:2.0
PRODID:-//OmniMagnetCalendar//EN
BEGIN:VEVENT
DTSTAMP:20190625T195740Z
STATUS:CONFIRMED
UID:hcaustralia.clubs.harvard.edu563
DTSTART:20251130T010000Z
DTEND:20251130T040000Z
LOCATION:Black Mountain Peninsula, Garryowen Drive,, ACTON, ACT, 2601,
SUMMARY:ACT Chapter - Picnic/BBQ with family and friends
DESCRIPTION:Join members and their families to enjoy a picnic at Black Mountain Peninsula in Canberra
BEGIN:VALARM
TRIGGER:-PT15M
ACTION:DISPLAY
END:VALARM
TRANSP:OPAQUE
END:VEVENT
END:VCALENDAR
