BEGIN:VCALENDAR
VERSION:2.0
PRODID:-//OmniMagnetCalendar//EN
BEGIN:VEVENT
DTSTAMP:20190625T195740Z
STATUS:CONFIRMED
UID:hcaustralia.clubs.harvard.edu560
DTSTART:20251022T070000Z
DTEND:20251022T090000Z
LOCATION:Taylor's Rooftop Bar, Republic Hotel, 69-73 Pitt Street, Sydney, NSW, 2000,
SUMMARY:Sydney HBS Global Networking Night
DESCRIPTION:Join fellow HBS alumni and guests at the annual Global Networking Night to mix and mingle in a social setting.  We will meet at Taylor's Rooftop Bar, of the Republic hotel, in Sydney CBD
BEGIN:VALARM
TRIGGER:-PT15M
ACTION:DISPLAY
END:VALARM
TRANSP:OPAQUE
END:VEVENT
END:VCALENDAR
