BEGIN:VCALENDAR
VERSION:2.0
PRODID:-//OmniMagnetCalendar//EN
BEGIN:VEVENT
DTSTAMP:20190625T195740Z
STATUS:CONFIRMED
UID:hcaustralia.clubs.harvard.edu556
DTSTART:20251015T063000Z
DTEND:20251015T083000Z
LOCATION:JBWere, Level 10, Brookfield Place, 10 Carrington Street, Sydney, 2000,
SUMMARY:An Evening with Professor Cole
DESCRIPTION:Join us for an evening, hosted by JBWere in Sydney, to celebrate their Social Leadership Program with the new Faculty Chair of the Social Enterprise Initiative, Professor Shawn Cole.
BEGIN:VALARM
TRIGGER:-PT15M
ACTION:DISPLAY
END:VALARM
TRANSP:OPAQUE
END:VEVENT
END:VCALENDAR
