BEGIN:VCALENDAR
VERSION:2.0
PRODID:-//OmniMagnetCalendar//EN
BEGIN:VEVENT
DTSTAMP:20190625T195740Z
STATUS:CONFIRMED
UID:hcaustralia.clubs.harvard.edu555
DTSTART:20250920T020000Z
DTEND:20250920T070000Z
LOCATION:
SUMMARY:Lunch and a Walk at Noosa National Park QLD
DESCRIPTION:Members and guests are invited to enjoy the beautiful Sunshine Coast with lunch and a leisurely walk at the stunning Noosa National Park.
BEGIN:VALARM
TRIGGER:-PT15M
ACTION:DISPLAY
END:VALARM
TRANSP:OPAQUE
END:VEVENT
END:VCALENDAR
