BEGIN:VCALENDAR
VERSION:2.0
PRODID:-//OmniMagnetCalendar//EN
BEGIN:VEVENT
DTSTAMP:20190625T195740Z
STATUS:CONFIRMED
UID:hcaustralia.clubs.harvard.edu553
DTSTART:20250917T073000Z
DTEND:20250917T093000Z
LOCATION:Club York, 95-99 York Street, Sydney, NSW, 2000,
SUMMARY:Harvard Women's Networking Event
DESCRIPTION:Connection, Conversation and Inspiration... this special HCA Women's Networking event brings together dynamic leaders for meaningful netoworking in a social and engaging setting.
BEGIN:VALARM
TRIGGER:-PT15M
ACTION:DISPLAY
END:VALARM
TRANSP:OPAQUE
END:VEVENT
END:VCALENDAR
