BEGIN:VCALENDAR
VERSION:2.0
PRODID:-//OmniMagnetCalendar//EN
BEGIN:VEVENT
DTSTAMP:20190625T195740Z
STATUS:CONFIRMED
UID:hcaustralia.clubs.harvard.edu551
DTSTART:20250716T033000Z
DTEND:20250717T033000Z
LOCATION:
SUMMARY:Cybersecurity Awareness Webinar - Series 4
DESCRIPTION:Cyber threats targeting energy, transportation, healthcare, and financial systems—case studies of real-world attacks and defensive strategies.
BEGIN:VALARM
TRIGGER:-PT15M
ACTION:DISPLAY
END:VALARM
TRANSP:OPAQUE
END:VEVENT
END:VCALENDAR
