BEGIN:VCALENDAR
VERSION:2.0
PRODID:-//OmniMagnetCalendar//EN
BEGIN:VEVENT
DTSTAMP:20190625T195740Z
STATUS:CONFIRMED
UID:hcaustralia.clubs.harvard.edu550
DTSTART:20250812T020000Z
DTEND:20250812T040000Z
LOCATION:McKinsey & Co Offices, Level 35, 88 Phillip Street, Sydney, NSW, 2000, Australia,
SUMMARY:Harvard, the Current Administration and the Rule of Law in the United States
DESCRIPTION:Join Tiger Lin, incoming Associate to the Chief Justice of the High Court of Australia and winner of the prestigious R.G. Menzies Scholarship in 2024, who will share his on-the-ground perspectives on these critical issues for Harvard and the United States
BEGIN:VALARM
TRIGGER:-PT15M
ACTION:DISPLAY
END:VALARM
TRANSP:OPAQUE
END:VEVENT
END:VCALENDAR
