BEGIN:VCALENDAR
VERSION:2.0
PRODID:-//OmniMagnetCalendar//EN
BEGIN:VEVENT
DTSTAMP:20190625T195740Z
STATUS:CONFIRMED
UID:hcaustralia.clubs.harvard.edu548
DTSTART:20250731T083000Z
DTEND:20250731T103000Z
LOCATION:
SUMMARY:ACT Chapter: Australia's National Defence Strategy
DESCRIPTION:Our speaker, Major General Jason Blain, DSC, AM, CSC will speak on Australia’s National Defence Strategy, Defence Policy, and opportunities for Industry—a very timely and compelling topic.
BEGIN:VALARM
TRIGGER:-PT15M
ACTION:DISPLAY
END:VALARM
TRANSP:OPAQUE
END:VEVENT
END:VCALENDAR
