BEGIN:VCALENDAR
VERSION:2.0
PRODID:-//OmniMagnetCalendar//EN
BEGIN:VEVENT
DTSTAMP:20190625T195740Z
STATUS:CONFIRMED
UID:hcaustralia.clubs.harvard.edu547
DTSTART:20250626T073000Z
DTEND:20250626T093000Z
LOCATION:
SUMMARY:HARVARD NEW STUDENTS -  Sydney Drinks
DESCRIPTION:All Harvard prospective students, current students & alumni are welcome to join us for informal drinks in the Sydney CBD.  Once you have registered, we will send you the link to the venue.
BEGIN:VALARM
TRIGGER:-PT15M
ACTION:DISPLAY
END:VALARM
TRANSP:OPAQUE
END:VEVENT
END:VCALENDAR
