BEGIN:VCALENDAR
VERSION:2.0
PRODID:-//OmniMagnetCalendar//EN
BEGIN:VEVENT
DTSTAMP:20190625T195740Z
STATUS:CONFIRMED
UID:hcaustralia.clubs.harvard.edu546
DTSTART:20250618T033000Z
DTEND:20250619T033000Z
LOCATION:
SUMMARY:Cybersecurity Awareness Webinar - Series 3
DESCRIPTION:Cybersecurity for Businesses: Securing SMEs and Enterprises. Join us to hear from Paula Adamson, CEO of Wrays, one of Australia’s largest independent IP specialist firms who will share her experience on the true cost of Cyber Breach, through case studie
BEGIN:VALARM
TRIGGER:-PT15M
ACTION:DISPLAY
END:VALARM
TRANSP:OPAQUE
END:VEVENT
END:VCALENDAR
