BEGIN:VCALENDAR
VERSION:2.0
PRODID:-//OmniMagnetCalendar//EN
BEGIN:VEVENT
DTSTAMP:20190625T195740Z
STATUS:CONFIRMED
UID:hcaustralia.clubs.harvard.edu540
DTSTART:20250611T010000Z
DTEND:20250613T090000Z
LOCATION:Cinnamon Life, City of Dreams, Colomob, Sri Lanka,
SUMMARY:BIG BOLD BRAVE 2025
DESCRIPTION:You are invited to join fellow Harvard alumni and guests at this exciting summit in Colombo, Sri Lanka to address core challenges and opportunities with a view to creating a new vision for the APAC region.
BEGIN:VALARM
TRIGGER:-PT15M
ACTION:DISPLAY
END:VALARM
TRANSP:OPAQUE
END:VEVENT
END:VCALENDAR
