BEGIN:VCALENDAR
VERSION:2.0
PRODID:-//OmniMagnetCalendar//EN
BEGIN:VEVENT
DTSTAMP:20190625T195740Z
STATUS:CONFIRMED
UID:hcaustralia.clubs.harvard.edu539
DTSTART:20250613T080000Z
DTEND:20250613T110000Z
LOCATION:NIDA, 215 Anzac Parade, Kensington,
SUMMARY:A Night at NIDA
DESCRIPTION:Join members and guests at a performance of Nine by NIDA's third year students. Always a highlight, the mid-year musical will showcase the next generation of Australia's theatre professionals - in acting, musical theatre, costume and set design, technical
BEGIN:VALARM
TRIGGER:-PT15M
ACTION:DISPLAY
END:VALARM
TRANSP:OPAQUE
END:VEVENT
END:VCALENDAR
